BEGIN:VCALENDAR
VERSION:2.0
PRODID:-//boysandgirlshomes.org//NONSGML kigkonsult.se iCalcreator 2.30.10/
 /
CALSCALE:GREGORIAN
METHOD:PUBLISH
UID:a89969c5-c6da-4d1b-b3f8-19b51fab2621
X-WR-CALDESC:RC Motors Races
X-WR-RELCALID:73a07cb0248367bcabb615c2f3ab1dc8
X-WR-TIMEZONE:America/New_York
BEGIN:VTIMEZONE
TZID:America/New_York
BEGIN:STANDARD
TZNAME:EST
DTSTART:20241103T020000
TZOFFSETFROM:-0400
TZOFFSETTO:-0500
RDATE:20251102T020000
END:STANDARD
BEGIN:DAYLIGHT
TZNAME:EDT
DTSTART:20240310T020000
TZOFFSETFROM:-0500
TZOFFSETTO:-0400
RDATE:20250309T020000
RDATE:20260308T020000
END:DAYLIGHT
END:VTIMEZONE
BEGIN:VEVENT
UID:ba9b478d-2347-4d87-8ce6-7df65a2f1605
DTSTAMP:20260422T182038Z
DESCRIPTION:RC Motors Races
DTSTART;TZID=America/New_York:20241205T060000
DTEND;TZID=America/New_York:20241208T060001
LOCATION:BGHNC Farm\, Bill Thompson Lane\, Lake Waccamaw\, NC 28450 US
SUMMARY:RC Motors Races
END:VEVENT
END:VCALENDAR
