BEGIN:VCALENDAR
VERSION:2.0
PRODID:-//boysandgirlshomes.org//NONSGML kigkonsult.se iCalcreator 2.30.10/
 /
CALSCALE:GREGORIAN
METHOD:PUBLISH
UID:151043f7-3ce5-4bc6-a953-0406c46fae3e
X-WR-CALDESC:Come see the region's only artistic display of thousands of na
 tivity scenes in different locations in Lake Waccamaw and enjoy seasonal m
 usic.
X-WR-RELCALID:a792fdc3ef0b1b21f49d2ae9c56e1c57
X-WR-TIMEZONE:America/New_York
BEGIN:VTIMEZONE
TZID:America/New_York
BEGIN:STANDARD
TZNAME:EST
DTSTART:20241103T020000
TZOFFSETFROM:-0400
TZOFFSETTO:-0500
RDATE:20251102T020000
END:STANDARD
BEGIN:DAYLIGHT
TZNAME:EDT
DTSTART:20240310T020000
TZOFFSETFROM:-0500
TZOFFSETTO:-0400
RDATE:20250309T020000
RDATE:20260308T020000
END:DAYLIGHT
END:VTIMEZONE
BEGIN:VEVENT
UID:f2a12390-a140-4930-aebe-7a32edfa311a
DTSTAMP:20260422T182622Z
DESCRIPTION:Come see the region's only artistic display of thousands of nat
 ivity scenes in different locations in Lake Waccamaw and enjoy seasonal mu
 sic.
DTSTART;TZID=America/New_York:20241206T160000
DTEND;TZID=America/New_York:20241206T203000
LOCATION:400 Flemington Drive\, Lake Waccamaw\, NC 28450 US
SUMMARY:The Nativity Journey
END:VEVENT
END:VCALENDAR
