BEGIN:VCALENDAR
VERSION:2.0
PRODID:-//boysandgirlshomes.org//NONSGML kigkonsult.se iCalcreator 2.30.10/
 /
CALSCALE:GREGORIAN
METHOD:PUBLISH
UID:f962076e-d782-4859-987c-af7a9fa3fda7
X-WR-CALDESC:Come see the region's only artistic showing of thousands of Na
 tivity scenes and enjoy some festive music.
X-WR-RELCALID:f2c1579ba8bd763f6d3369eb662db19a
X-WR-TIMEZONE:America/New_York
BEGIN:VTIMEZONE
TZID:America/New_York
BEGIN:STANDARD
TZNAME:EST
DTSTART:20241103T020000
TZOFFSETFROM:-0400
TZOFFSETTO:-0500
RDATE:20251102T020000
END:STANDARD
BEGIN:DAYLIGHT
TZNAME:EDT
DTSTART:20240310T020000
TZOFFSETFROM:-0500
TZOFFSETTO:-0400
RDATE:20250309T020000
RDATE:20260308T020000
END:DAYLIGHT
END:VTIMEZONE
BEGIN:VEVENT
UID:78fc4bfa-ad46-4a40-ab33-73366ec681a8
DTSTAMP:20260422T182449Z
DESCRIPTION:Come see the region's only artistic showing of thousands of Nat
 ivity scenes and enjoy some festive music.
DTSTART;TZID=America/New_York:20241207T100000
DTEND;TZID=America/New_York:20241207T160000
LOCATION:400 Flemington Drive\, Lake Waccamaw\, NC 28450 US
SUMMARY:The Nativity Journey
END:VEVENT
END:VCALENDAR
