BEGIN:VCALENDAR
VERSION:2.0
PRODID:-//boysandgirlshomes.org//NONSGML kigkonsult.se iCalcreator 2.30.10/
 /
CALSCALE:GREGORIAN
METHOD:PUBLISH
UID:9e0f9e7e-7c90-446f-aaa7-0d216fd5c978
X-WR-CALDESC:The monthly meeting of the Lake Waccamaw Lions Club
X-WR-RELCALID:0c7fe763918a880c5bd9f3c9894e644b
X-WR-TIMEZONE:America/New_York
BEGIN:VTIMEZONE
TZID:America/New_York
BEGIN:STANDARD
TZNAME:EST
DTSTART:20241103T020000
TZOFFSETFROM:-0400
TZOFFSETTO:-0500
RDATE:20251102T020000
END:STANDARD
BEGIN:DAYLIGHT
TZNAME:EDT
DTSTART:20240310T020000
TZOFFSETFROM:-0500
TZOFFSETTO:-0400
RDATE:20250309T020000
RDATE:20260308T020000
END:DAYLIGHT
END:VTIMEZONE
BEGIN:VEVENT
UID:d61d65bb-2985-4e4c-8d7d-ed8ff36545d4
DTSTAMP:20260422T181947Z
DESCRIPTION:The monthly meeting of the Lake Waccamaw Lions Club
DTSTART;TZID=America/New_York:20241219T180000
DTEND;TZID=America/New_York:20241219T190000
LOCATION:Morton Conference Center
SUMMARY:Lake Waccamaw Lions Club Meeting
END:VEVENT
END:VCALENDAR
