BEGIN:VCALENDAR
VERSION:2.0
PRODID:-//boysandgirlshomes.org//NONSGML kigkonsult.se iCalcreator 2.30.10/
 /
CALSCALE:GREGORIAN
METHOD:PUBLISH
UID:e11e0570-c35a-478e-9e0d-51c713de71fe
X-WR-CALDESC:The monthly meeting of the Lake Waccamaw Lions Club
X-WR-RELCALID:7fea42fc592bfab5b64e874160fb9c49
X-WR-TIMEZONE:America/New_York
BEGIN:VTIMEZONE
TZID:America/New_York
BEGIN:STANDARD
TZNAME:EST
DTSTART:20241103T020000
TZOFFSETFROM:-0400
TZOFFSETTO:-0500
RDATE:20251102T020000
END:STANDARD
BEGIN:DAYLIGHT
TZNAME:EDT
DTSTART:20250309T020000
TZOFFSETFROM:-0500
TZOFFSETTO:-0400
RDATE:20260308T020000
END:DAYLIGHT
END:VTIMEZONE
BEGIN:VEVENT
UID:fdb3b10f-3fe6-4d29-bad7-8a0e42507ad7
DTSTAMP:20260422T141332Z
DESCRIPTION:The monthly meeting of the Lake Waccamaw Lions Club
DTSTART;TZID=America/New_York:20250320T180000
DTEND;TZID=America/New_York:20250320T190000
LOCATION:Morton Conference Center
SUMMARY:Lake Waccamaw Lions Club Meeting
END:VEVENT
END:VCALENDAR
