BEGIN:VCALENDAR
VERSION:2.0
PRODID:-//boysandgirlshomes.org//NONSGML kigkonsult.se iCalcreator 2.30.10/
 /
CALSCALE:GREGORIAN
METHOD:PUBLISH
UID:e0ab6d63-30e6-41df-a774-84ecd7d5888a
X-WR-CALDESC:Rotarians across NC will gather on Boys & Girls Homes campus f
 or service projects and campus tours to learn more about the organization 
 they supported for the past 70 years
X-WR-RELCALID:3ee7a2ae1f72ce8159a4005b8f8b6d86
X-WR-TIMEZONE:America/New_York
BEGIN:VTIMEZONE
TZID:America/New_York
BEGIN:STANDARD
TZNAME:EST
DTSTART:20241103T020000
TZOFFSETFROM:-0400
TZOFFSETTO:-0500
RDATE:20251102T020000
END:STANDARD
BEGIN:DAYLIGHT
TZNAME:EDT
DTSTART:20250309T020000
TZOFFSETFROM:-0500
TZOFFSETTO:-0400
RDATE:20260308T020000
END:DAYLIGHT
END:VTIMEZONE
BEGIN:VEVENT
UID:36477f2f-ba48-4180-98a0-0ee9c2f09166
DTSTAMP:20260422T142205Z
DESCRIPTION:Rotarians across NC will gather on Boys & Girls Homes campus fo
 r service projects and campus tours to learn more about the organization t
 hey supported for the past 70 years
DTSTART;TZID=America/New_York:20250322T090000
DTEND;TZID=America/New_York:20250322T130000
LOCATION:400 Flemington Drive\, Lake Waccamaw\, NC 28450 US
SUMMARY:Rotary Day
END:VEVENT
END:VCALENDAR
