BEGIN:VCALENDAR
VERSION:2.0
PRODID:-//boysandgirlshomes.org//NONSGML kigkonsult.se iCalcreator 2.30.10/
 /
CALSCALE:GREGORIAN
METHOD:PUBLISH
UID:e01e33fd-4c19-4c3c-b337-9e1b5d814e5b
X-WR-CALDESC:Da Bomb Barrel Race
X-WR-RELCALID:2574f6b63447832c85dff2e033aa19cf
X-WR-TIMEZONE:America/New_York
BEGIN:VTIMEZONE
TZID:America/New_York
BEGIN:STANDARD
TZNAME:EST
DTSTART:20241103T020000
TZOFFSETFROM:-0400
TZOFFSETTO:-0500
RDATE:20251102T020000
END:STANDARD
BEGIN:DAYLIGHT
TZNAME:EDT
DTSTART:20250309T020000
TZOFFSETFROM:-0500
TZOFFSETTO:-0400
RDATE:20260308T020000
END:DAYLIGHT
END:VTIMEZONE
BEGIN:VEVENT
UID:8e8f8e72-622e-4917-8e4f-6a99dd8f0f08
DTSTAMP:20260422T141802Z
DESCRIPTION:Da Bomb Barrel Race
DTSTART;TZID=America/New_York:20250328T060000
DTEND;TZID=America/New_York:20250330T060001
LOCATION:Bill Thompson Lane\, Lake Waccamaw\, NC 28450 US
SUMMARY:Da Bomb Barrel Race
END:VEVENT
END:VCALENDAR
