BEGIN:VCALENDAR
VERSION:2.0
PRODID:-//boysandgirlshomes.org//NONSGML kigkonsult.se iCalcreator 2.30.10/
 /
CALSCALE:GREGORIAN
METHOD:PUBLISH
UID:d38c5a8b-6ee8-47d3-85ca-1fc82df7418a
X-WR-CALDESC:Alumni Homecoming reunion weekend for anyone who once lived at
  Boys & Girls Homes
X-WR-RELCALID:7fe14ad72315dcdc587d829558608587
X-WR-TIMEZONE:America/New_York
BEGIN:VTIMEZONE
TZID:America/New_York
BEGIN:STANDARD
TZNAME:EST
DTSTART:20241103T020000
TZOFFSETFROM:-0400
TZOFFSETTO:-0500
RDATE:20251102T020000
END:STANDARD
BEGIN:DAYLIGHT
TZNAME:EDT
DTSTART:20250309T020000
TZOFFSETFROM:-0500
TZOFFSETTO:-0400
RDATE:20260308T020000
END:DAYLIGHT
END:VTIMEZONE
BEGIN:VEVENT
UID:dc902fa7-8679-4a67-b751-bc7f2bde17b7
DTSTAMP:20260422T124748Z
DESCRIPTION:Alumni Homecoming reunion weekend for anyone who once lived at 
 Boys & Girls Homes
DTSTART;TZID=America/New_York:20250405T060000
DTEND;TZID=America/New_York:20250405T060001
LOCATION:400 Flemington Drive\, Lake Waccamaw\, NC 28450 US
SUMMARY:Alumni Homecoming Weekend
END:VEVENT
END:VCALENDAR
