BEGIN:VCALENDAR
VERSION:2.0
PRODID:-//boysandgirlshomes.org//NONSGML kigkonsult.se iCalcreator 2.30.10/
 /
CALSCALE:GREGORIAN
METHOD:PUBLISH
UID:f11f62d7-b034-4f50-8d91-d673e52beffe
X-WR-CALDESC:Light the Lake in its 11th year is BGHNC's commemoration of ou
 r efforts against child abuse. We will gather and walk around Lake Waccama
 w with lighted electric candles in memory of children who were lost to chi
 ld abuse.
X-WR-RELCALID:8d0b63e2d047cf0b174e33427bd48d7e
X-WR-TIMEZONE:America/New_York
BEGIN:VTIMEZONE
TZID:America/New_York
BEGIN:STANDARD
TZNAME:EST
DTSTART:20241103T020000
TZOFFSETFROM:-0400
TZOFFSETTO:-0500
RDATE:20251102T020000
END:STANDARD
BEGIN:DAYLIGHT
TZNAME:EDT
DTSTART:20250309T020000
TZOFFSETFROM:-0500
TZOFFSETTO:-0400
RDATE:20260308T020000
END:DAYLIGHT
END:VTIMEZONE
BEGIN:VEVENT
UID:b12536d4-bc91-4b9c-8f37-8b44d543b3ac
DTSTAMP:20260422T124454Z
DESCRIPTION:Light the Lake in its 11th year is BGHNC's commemoration of our
  efforts against child abuse. We will gather and walk around Lake Waccamaw
  with lighted electric candles in memory of children who were lost to chil
 d abuse.
DTSTART;TZID=America/New_York:20250408T163000
DTEND;TZID=America/New_York:20250408T183000
LOCATION:400 Flemington Drive\, Lake Waccamaw\, NC 28450 US
SUMMARY:Light the Lake - walk against child abuse
END:VEVENT
END:VCALENDAR
