BEGIN:VCALENDAR
VERSION:2.0
PRODID:-//boysandgirlshomes.org//NONSGML kigkonsult.se iCalcreator 2.30.10/
 /
CALSCALE:GREGORIAN
METHOD:PUBLISH
UID:d036138b-95b3-46de-bfa7-e8dcc74ade3b
X-WR-CALDESC:Carolina Paint Horse Club
X-WR-RELCALID:f458e618fa21f961423b4cd9ed25d9e1
X-WR-TIMEZONE:America/New_York
BEGIN:VTIMEZONE
TZID:America/New_York
BEGIN:STANDARD
TZNAME:EST
DTSTART:20241103T020000
TZOFFSETFROM:-0400
TZOFFSETTO:-0500
RDATE:20251102T020000
END:STANDARD
BEGIN:DAYLIGHT
TZNAME:EDT
DTSTART:20250309T020000
TZOFFSETFROM:-0500
TZOFFSETTO:-0400
RDATE:20260308T020000
END:DAYLIGHT
END:VTIMEZONE
BEGIN:VEVENT
UID:b57547f9-9d7c-4fc4-a428-0675b8bb97b5
DTSTAMP:20260422T124041Z
DESCRIPTION:Carolina Paint Horse Club
DTSTART;TZID=America/New_York:20250412T060000
DTEND;TZID=America/New_York:20250413T060001
LOCATION:Bill Thompson Lane\, Lake Waccamaw\, NC 28450 US
SUMMARY:Carolina Paint Horse Club
END:VEVENT
END:VCALENDAR
