BEGIN:VCALENDAR
VERSION:2.0
PRODID:-//boysandgirlshomes.org//NONSGML kigkonsult.se iCalcreator 2.30.10/
 /
CALSCALE:GREGORIAN
METHOD:PUBLISH
UID:93a32527-7045-44c3-95ed-631eb41907af
X-WR-CALDESC:Optimists from across North Carolina will gather on Boys & Gir
 ls Homes campus for service projects\, campus and cottage tours and to lea
 rn more about the organization they have supported since 1954.
X-WR-RELCALID:035a46f4cdf6ea902cb02fa467b56afd
X-WR-TIMEZONE:America/New_York
BEGIN:VTIMEZONE
TZID:America/New_York
BEGIN:STANDARD
TZNAME:EST
DTSTART:20241103T020000
TZOFFSETFROM:-0400
TZOFFSETTO:-0500
RDATE:20251102T020000
END:STANDARD
BEGIN:DAYLIGHT
TZNAME:EDT
DTSTART:20250309T020000
TZOFFSETFROM:-0500
TZOFFSETTO:-0400
RDATE:20260308T020000
END:DAYLIGHT
END:VTIMEZONE
BEGIN:VEVENT
UID:938e4e0c-a468-430c-b1c4-20765bc43c4b
DTSTAMP:20260422T124330Z
DESCRIPTION:Optimists from across North Carolina will gather on Boys & Girl
 s Homes campus for service projects\, campus and cottage tours and to lear
 n more about the organization they have supported since 1954.
DTSTART;TZID=America/New_York:20250412T090000
DTEND;TZID=America/New_York:20250412T130000
LOCATION:400 Flemington Drive\, Lake Waccamaw\, NC 28450 US
SUMMARY:Optimist Day
END:VEVENT
END:VCALENDAR
