BEGIN:VCALENDAR
VERSION:2.0
PRODID:-//boysandgirlshomes.org//NONSGML kigkonsult.se iCalcreator 2.30.10/
 /
CALSCALE:GREGORIAN
METHOD:PUBLISH
UID:831a145a-e3ca-4532-9199-86c2e364d8e1
X-WR-CALDESC:The monthly meeting of the Lake Waccamaw Lions Club
X-WR-RELCALID:151d49048561eeaa090a071222a38710
X-WR-TIMEZONE:America/New_York
BEGIN:VTIMEZONE
TZID:America/New_York
BEGIN:STANDARD
TZNAME:EST
DTSTART:20241103T020000
TZOFFSETFROM:-0400
TZOFFSETTO:-0500
RDATE:20251102T020000
END:STANDARD
BEGIN:DAYLIGHT
TZNAME:EDT
DTSTART:20250309T020000
TZOFFSETFROM:-0500
TZOFFSETTO:-0400
RDATE:20260308T020000
END:DAYLIGHT
END:VTIMEZONE
BEGIN:VEVENT
UID:b46f79ab-012e-42dc-bdb7-9041bdc725b6
DTSTAMP:20260422T124116Z
DESCRIPTION:The monthly meeting of the Lake Waccamaw Lions Club
DTSTART;TZID=America/New_York:20250417T180000
DTEND;TZID=America/New_York:20250417T190000
LOCATION:Morton Conference Center
SUMMARY:Lake Waccamaw Lions Club Meeting
END:VEVENT
END:VCALENDAR
