BEGIN:VCALENDAR
VERSION:2.0
PRODID:-//boysandgirlshomes.org//NONSGML kigkonsult.se iCalcreator 2.30.10/
 /
CALSCALE:GREGORIAN
METHOD:PUBLISH
UID:05951bff-3805-480d-aee8-96f5e19ad95f
X-WR-CALDESC:Wild Bill Game Show Series
X-WR-RELCALID:bce721bf44f6259f71385706f0b389db
X-WR-TIMEZONE:America/New_York
BEGIN:VTIMEZONE
TZID:America/New_York
BEGIN:STANDARD
TZNAME:EST
DTSTART:20241103T020000
TZOFFSETFROM:-0400
TZOFFSETTO:-0500
RDATE:20251102T020000
END:STANDARD
BEGIN:DAYLIGHT
TZNAME:EDT
DTSTART:20250309T020000
TZOFFSETFROM:-0500
TZOFFSETTO:-0400
RDATE:20260308T020000
END:DAYLIGHT
END:VTIMEZONE
BEGIN:VEVENT
UID:0efc3f82-07a1-4c25-acb9-3f2409794c2f
DTSTAMP:20260422T125414Z
DESCRIPTION:Wild Bill Game Show Series
DTSTART;TZID=America/New_York:20250426T060000
DTEND;TZID=America/New_York:20250426T060001
LOCATION:Bill Thompson Lane\, Lake Waccamaw\, NC 28450 US
SUMMARY:Southeastern NC Game Show Series
END:VEVENT
END:VCALENDAR
