BEGIN:VCALENDAR
VERSION:2.0
PRODID:-//boysandgirlshomes.org//NONSGML kigkonsult.se iCalcreator 2.30.10/
 /
CALSCALE:GREGORIAN
METHOD:PUBLISH
UID:f9823907-6553-41d9-8b56-cc9a8e4fcea9
X-WR-CALDESC:In its 16th year\, the American Legion Benefit Bike Ride bring
 s together multiple bike clubs in Southeast North Carolina to ride to Boys
  & Girls Homes for a lunch and program to raise money for the nonprofit.
X-WR-RELCALID:9b27d01b0443ce4b3407459be7e97149
X-WR-TIMEZONE:America/New_York
BEGIN:VTIMEZONE
TZID:America/New_York
BEGIN:STANDARD
TZNAME:EST
DTSTART:20241103T020000
TZOFFSETFROM:-0400
TZOFFSETTO:-0500
RDATE:20251102T020000
RDATE:20261101T020000
END:STANDARD
BEGIN:DAYLIGHT
TZNAME:EDT
DTSTART:20250309T020000
TZOFFSETFROM:-0500
TZOFFSETTO:-0400
RDATE:20260308T020000
END:DAYLIGHT
END:VTIMEZONE
BEGIN:VEVENT
UID:8e08f2a6-97ff-4a94-8fe8-28362f1baff8
DTSTAMP:20260422T111704Z
DESCRIPTION:In its 16th year\, the American Legion Benefit Bike Ride brings
  together multiple bike clubs in Southeast North Carolina to ride to Boys 
 & Girls Homes for a lunch and program to raise money for the nonprofit.
DTSTART;TZID=America/New_York:20250503T110000
DTEND;TZID=America/New_York:20250503T130000
LOCATION:400 Flemington Drive\, Lake Waccamaw\, NC 28450 US
SUMMARY:American Legion Benefit Ride
END:VEVENT
END:VCALENDAR
