BEGIN:VCALENDAR
VERSION:2.0
PRODID:-//boysandgirlshomes.org//NONSGML kigkonsult.se iCalcreator 2.30.10/
 /
CALSCALE:GREGORIAN
METHOD:PUBLISH
UID:42a8cac7-fcc4-4445-8e25-7b59e42b4f46
X-WR-CALDESC:Lions Days brings Lions Clubs from across North Carolina toget
 her on the campus of Boys & Girls Homes of North Carolina for service proj
 ects\, tours and programs to learn more about the 70-year-old nonprofit th
 ey support.
X-WR-RELCALID:eb4faa717d5d205ddb5a4e002b732e60
X-WR-TIMEZONE:America/New_York
BEGIN:VTIMEZONE
TZID:America/New_York
BEGIN:STANDARD
TZNAME:EST
DTSTART:20241103T020000
TZOFFSETFROM:-0400
TZOFFSETTO:-0500
RDATE:20251102T020000
RDATE:20261101T020000
END:STANDARD
BEGIN:DAYLIGHT
TZNAME:EDT
DTSTART:20250309T020000
TZOFFSETFROM:-0500
TZOFFSETTO:-0400
RDATE:20260308T020000
END:DAYLIGHT
END:VTIMEZONE
BEGIN:VEVENT
UID:65511c13-ae6e-4ba5-b426-4103aa226e46
DTSTAMP:20260422T113236Z
DESCRIPTION:Lions Days brings Lions Clubs from across North Carolina togeth
 er on the campus of Boys & Girls Homes of North Carolina for service proje
 cts\, tours and programs to learn more about the 70-year-old nonprofit the
 y support.
DTSTART;TZID=America/New_York:20250510T090000
DTEND;TZID=America/New_York:20250510T130000
LOCATION:400 Flemington Drive\, Lake Waccamaw\, NC 28450 US
SUMMARY:Lions Day
END:VEVENT
END:VCALENDAR
