BEGIN:VCALENDAR
VERSION:2.0
PRODID:-//boysandgirlshomes.org//NONSGML kigkonsult.se iCalcreator 2.30.10/
 /
CALSCALE:GREGORIAN
METHOD:PUBLISH
UID:91fcf2c4-eb29-4cc5-b287-5333bb2a2cbf
X-WR-CALDESC:Wild Bill Game Show Series
X-WR-RELCALID:79869f1313f788a1ab945e1c23db49d5
X-WR-TIMEZONE:America/New_York
BEGIN:VTIMEZONE
TZID:America/New_York
BEGIN:STANDARD
TZNAME:EST
DTSTART:20241103T020000
TZOFFSETFROM:-0400
TZOFFSETTO:-0500
RDATE:20251102T020000
RDATE:20261101T020000
END:STANDARD
BEGIN:DAYLIGHT
TZNAME:EDT
DTSTART:20250309T020000
TZOFFSETFROM:-0500
TZOFFSETTO:-0400
RDATE:20260308T020000
END:DAYLIGHT
END:VTIMEZONE
BEGIN:VEVENT
UID:c8acc4e6-e88c-480a-9f45-3ef9c0153bd3
DTSTAMP:20260422T111320Z
DESCRIPTION:Wild Bill Game Show Series
DTSTART;TZID=America/New_York:20250510T060000
DTEND;TZID=America/New_York:20250510T060001
LOCATION:Bill Thompson Lane\, Lake Waccamaw\, NC 28450 US
SUMMARY:Southeastern NC Game Show Series
END:VEVENT
END:VCALENDAR
