BEGIN:VCALENDAR
VERSION:2.0
PRODID:-//boysandgirlshomes.org//NONSGML kigkonsult.se iCalcreator 2.30.10/
 /
CALSCALE:GREGORIAN
METHOD:PUBLISH
UID:ae309bc6-9472-40bb-b67e-11a08fad5d13
X-WR-CALDESC:4H District Horse Show
X-WR-RELCALID:20d957fd3ceeb07d103c044d5f287d1c
X-WR-TIMEZONE:America/New_York
BEGIN:VTIMEZONE
TZID:America/New_York
BEGIN:STANDARD
TZNAME:EST
DTSTART:20241103T020000
TZOFFSETFROM:-0400
TZOFFSETTO:-0500
RDATE:20251102T020000
RDATE:20261101T020000
END:STANDARD
BEGIN:DAYLIGHT
TZNAME:EDT
DTSTART:20250309T020000
TZOFFSETFROM:-0500
TZOFFSETTO:-0400
RDATE:20260308T020000
END:DAYLIGHT
END:VTIMEZONE
BEGIN:VEVENT
UID:405f9882-4787-48a1-b59f-a6a8aeb08bb0
DTSTAMP:20260422T111344Z
DESCRIPTION:4H District Horse Show
DTSTART;TZID=America/New_York:20250516T060000
DTEND;TZID=America/New_York:20250518T060001
LOCATION:Bill Thompson Lane\, Lake Waccamaw\, NC 28450 US
SUMMARY:4H District Horse Show
END:VEVENT
END:VCALENDAR
