BEGIN:VCALENDAR
VERSION:2.0
PRODID:-//boysandgirlshomes.org//NONSGML kigkonsult.se iCalcreator 2.30.10/
 /
CALSCALE:GREGORIAN
METHOD:PUBLISH
UID:1d52d14a-771a-4b2f-94ce-cd495fa3d6a4
X-WR-CALDESC:Celebrate the amazing accomplishments of Carolyn's Kaleidoscop
 e Child Advocacy Center with a night of dancing and a program at Vineland 
 Station in Whiteville at the second Kaleidoscope of Hope Soiree to benefit
  the CAC. Links for tickets coming soon.
X-WR-RELCALID:13a386298b56975038ffc3030c35f57a
X-WR-TIMEZONE:America/New_York
BEGIN:VTIMEZONE
TZID:America/New_York
BEGIN:STANDARD
TZNAME:EST
DTSTART:20241103T020000
TZOFFSETFROM:-0400
TZOFFSETTO:-0500
RDATE:20251102T020000
RDATE:20261101T020000
END:STANDARD
BEGIN:DAYLIGHT
TZNAME:EDT
DTSTART:20250309T020000
TZOFFSETFROM:-0500
TZOFFSETTO:-0400
RDATE:20260308T020000
END:DAYLIGHT
END:VTIMEZONE
BEGIN:VEVENT
UID:6f8407be-0920-4bbe-86c5-df4f76ae39f4
DTSTAMP:20260422T111508Z
DESCRIPTION:Celebrate the amazing accomplishments of Carolyn's Kaleidoscope
  Child Advocacy Center with a night of dancing and a program at Vineland S
 tation in Whiteville at the second Kaleidoscope of Hope Soiree to benefit 
 the CAC. Links for tickets coming soon.
DTSTART;TZID=America/New_York:20250530T170000
DTEND;TZID=America/New_York:20250530T200000
LOCATION:701 S Madison Street\, Whiteville\, NC 28472 US
SUMMARY:Kaleidoscope of Hope Soiree (benefitting Carolyn's Kaleidoscope Chi
 ld Advocacy Center)
END:VEVENT
END:VCALENDAR
