BEGIN:VCALENDAR
VERSION:2.0
PRODID:-//boysandgirlshomes.org//NONSGML kigkonsult.se iCalcreator 2.30.10/
 /
CALSCALE:GREGORIAN
METHOD:PUBLISH
UID:7648889b-4d3e-4868-a83b-08a461e4aa5a
X-WR-CALDESC:
X-WR-RELCALID:fbdfad916b38607a9ebd94b3148e2259
X-WR-TIMEZONE:America/New_York
BEGIN:VTIMEZONE
TZID:America/New_York
BEGIN:STANDARD
TZNAME:EST
DTSTART:20241103T020000
TZOFFSETFROM:-0400
TZOFFSETTO:-0500
RDATE:20251102T020000
RDATE:20261101T020000
END:STANDARD
BEGIN:DAYLIGHT
TZNAME:EDT
DTSTART:20250309T020000
TZOFFSETFROM:-0500
TZOFFSETTO:-0400
RDATE:20260308T020000
END:DAYLIGHT
END:VTIMEZONE
BEGIN:VEVENT
UID:c5f92d4a-ca2b-47a4-8715-c4b06d207b65
DTSTAMP:20260422T082028Z
DESCRIPTION:
DTSTART;TZID=America/New_York:20250530T060000
DTEND;TZID=America/New_York:20250601T060001
LOCATION:Bill Thompson Lane\, Lake Waccamaw\, NC 28450 US
SUMMARY:RC Motors Races
END:VEVENT
END:VCALENDAR
