BEGIN:VCALENDAR
VERSION:2.0
PRODID:-//boysandgirlshomes.org//NONSGML kigkonsult.se iCalcreator 2.30.10/
 /
CALSCALE:GREGORIAN
METHOD:PUBLISH
UID:0cbcf75f-ed99-4a9f-a975-6aac38652587
X-WR-CALDESC:The annual Old Dominion Rotary Charity Golf Tournament is at t
 he MacGregor Downs Country Club in Cary and benefits the programs of care 
 at Boys & Girls Homes.
X-WR-RELCALID:da8ff3a94aa2854354e542b15100412f
X-WR-TIMEZONE:America/New_York
BEGIN:VTIMEZONE
TZID:America/New_York
BEGIN:STANDARD
TZNAME:EST
DTSTART:20241103T020000
TZOFFSETFROM:-0400
TZOFFSETTO:-0500
RDATE:20251102T020000
RDATE:20261101T020000
END:STANDARD
BEGIN:DAYLIGHT
TZNAME:EDT
DTSTART:20250309T020000
TZOFFSETFROM:-0500
TZOFFSETTO:-0400
RDATE:20260308T020000
END:DAYLIGHT
END:VTIMEZONE
BEGIN:VEVENT
UID:53e33a2d-8633-492d-8c16-175c993e9bc0
DTSTAMP:20260420T095824Z
DESCRIPTION:The annual Old Dominion Rotary Charity Golf Tournament is at th
 e MacGregor Downs Country Club in Cary and benefits the programs of care a
 t Boys & Girls Homes.
DTSTART;TZID=America/New_York:20250602T090000
DTEND;TZID=America/New_York:20250602T150000
LOCATION:430 St Andrews Ln\, Cary\, NC 27511 US
SUMMARY:Old Dominion Rotary Charity Golf Tournament
END:VEVENT
END:VCALENDAR
