BEGIN:VCALENDAR
VERSION:2.0
PRODID:-//boysandgirlshomes.org//NONSGML kigkonsult.se iCalcreator 2.30.10/
 /
CALSCALE:GREGORIAN
METHOD:PUBLISH
UID:f4660d91-bbb3-4a11-b15d-01107b15d86b
X-WR-CALDESC:2024-2025 Thomas Academy graduation
X-WR-RELCALID:aa9bbdca06fd67cc146c1b7f47ee19d4
X-WR-TIMEZONE:America/New_York
BEGIN:VTIMEZONE
TZID:America/New_York
BEGIN:STANDARD
TZNAME:EST
DTSTART:20241103T020000
TZOFFSETFROM:-0400
TZOFFSETTO:-0500
RDATE:20251102T020000
RDATE:20261101T020000
END:STANDARD
BEGIN:DAYLIGHT
TZNAME:EDT
DTSTART:20250309T020000
TZOFFSETFROM:-0500
TZOFFSETTO:-0400
RDATE:20260308T020000
END:DAYLIGHT
END:VTIMEZONE
BEGIN:VEVENT
UID:32e19356-5df2-4adc-90cb-8eed4ae346f9
DTSTAMP:20260422T094821Z
DESCRIPTION:2024-2025 Thomas Academy graduation
DTSTART;TZID=America/New_York:20250607T090000
DTEND;TZID=America/New_York:20250607T110000
LOCATION:400 Flemington Drive\, Lake Waccamaw\, NC 28450 US
SUMMARY:Thomas Academy Graduation Day
END:VEVENT
END:VCALENDAR
