BEGIN:VCALENDAR
VERSION:2.0
PRODID:-//boysandgirlshomes.org//NONSGML kigkonsult.se iCalcreator 2.30.10/
 /
CALSCALE:GREGORIAN
METHOD:PUBLISH
UID:f753af57-6ebc-4f5d-b413-c8f86cb50e7b
X-WR-CALDESC:
X-WR-RELCALID:47bfbd144b72dfb24046853652a24d74
X-WR-TIMEZONE:America/New_York
BEGIN:VTIMEZONE
TZID:America/New_York
BEGIN:STANDARD
TZNAME:EST
DTSTART:20241103T020000
TZOFFSETFROM:-0400
TZOFFSETTO:-0500
RDATE:20251102T020000
RDATE:20261101T020000
END:STANDARD
BEGIN:DAYLIGHT
TZNAME:EDT
DTSTART:20250309T020000
TZOFFSETFROM:-0500
TZOFFSETTO:-0400
RDATE:20260308T020000
END:DAYLIGHT
END:VTIMEZONE
BEGIN:VEVENT
UID:fc37b5a0-9883-4625-8f33-614e4562b210
DTSTAMP:20260422T094202Z
DESCRIPTION:
DTSTART;TZID=America/New_York:20250613T060000
DTEND;TZID=America/New_York:20250613T060001
LOCATION:Bill Thompson Lane\, Lake Waccamaw\, NC 28450 US
SUMMARY:Farm reserved for BGHNC Staff Appreciation Day
END:VEVENT
END:VCALENDAR
