BEGIN:VCALENDAR
VERSION:2.0
PRODID:-//boysandgirlshomes.org//NONSGML kigkonsult.se iCalcreator 2.30.10/
 /
CALSCALE:GREGORIAN
METHOD:PUBLISH
UID:67bdd468-71f8-4745-8e11-406948787bc2
X-WR-CALDESC:Jaycees and former Jaycees from across North Carolina will gat
 her at Boys & Girls Homes campus for a day of activities\, service project
 s and programs to learn more about the nonprofit they have supported for m
 ore than 70 years.
X-WR-RELCALID:832fc5635bdf86fb0fb753bd3c1c1fd8
X-WR-TIMEZONE:America/New_York
BEGIN:VTIMEZONE
TZID:America/New_York
BEGIN:STANDARD
TZNAME:EST
DTSTART:20241103T020000
TZOFFSETFROM:-0400
TZOFFSETTO:-0500
RDATE:20251102T020000
RDATE:20261101T020000
END:STANDARD
BEGIN:DAYLIGHT
TZNAME:EDT
DTSTART:20250309T020000
TZOFFSETFROM:-0500
TZOFFSETTO:-0400
RDATE:20260308T020000
END:DAYLIGHT
END:VTIMEZONE
BEGIN:VEVENT
UID:985eb77b-f453-43d0-952b-98a88cb91e1a
DTSTAMP:20260422T094955Z
DESCRIPTION:Jaycees and former Jaycees from across North Carolina will gath
 er at Boys & Girls Homes campus for a day of activities\, service projects
  and programs to learn more about the nonprofit they have supported for mo
 re than 70 years.
DTSTART;TZID=America/New_York:20250621T090000
DTEND;TZID=America/New_York:20250621T130000
LOCATION:400 Flemington Drive\, Lake Waccamaw\, NC 28450 US
SUMMARY:Jaycee Day
END:VEVENT
END:VCALENDAR
