BEGIN:VCALENDAR
VERSION:2.0
PRODID:-//boysandgirlshomes.org//NONSGML kigkonsult.se iCalcreator 2.30.10/
 /
CALSCALE:GREGORIAN
METHOD:PUBLISH
UID:05846ecc-b53a-4891-b500-82ad8cb65bf1
X-WR-CALDESC:
X-WR-RELCALID:a5ad3439ba2f2186fcae1e2c1def8bb5
X-WR-TIMEZONE:America/New_York
BEGIN:VTIMEZONE
TZID:America/New_York
BEGIN:STANDARD
TZNAME:EST
DTSTART:20241103T020000
TZOFFSETFROM:-0400
TZOFFSETTO:-0500
RDATE:20251102T020000
RDATE:20261101T020000
END:STANDARD
BEGIN:DAYLIGHT
TZNAME:EDT
DTSTART:20250309T020000
TZOFFSETFROM:-0500
TZOFFSETTO:-0400
RDATE:20260308T020000
END:DAYLIGHT
END:VTIMEZONE
BEGIN:VEVENT
UID:aea9bc1b-8d91-4d20-920e-455e1a3aa614
DTSTAMP:20260422T094939Z
DESCRIPTION:
DTSTART;TZID=America/New_York:20250628T060000
DTEND;TZID=America/New_York:20250629T060001
LOCATION:Bill Thompson Lane\, Lake Waccamaw\, AL 28450 US
SUMMARY:4Beats for Pleasure Horse Show
END:VEVENT
END:VCALENDAR
