BEGIN:VCALENDAR
VERSION:2.0
PRODID:-//boysandgirlshomes.org//NONSGML kigkonsult.se iCalcreator 2.30.10/
 /
CALSCALE:GREGORIAN
METHOD:PUBLISH
UID:3dee58be-f46a-4e0c-b9bc-2a438b6134bd
X-WR-CALDESC:Southeastern Oratorio Society's Fourth of July Concert will be
  at 6 p.m. June 29 in the Boys & Girls Homes Chapel. Admission is free but
  donations are accepted.
X-WR-RELCALID:328060d9f325f792b1495abb69527164
X-WR-TIMEZONE:America/New_York
BEGIN:VTIMEZONE
TZID:America/New_York
BEGIN:STANDARD
TZNAME:EST
DTSTART:20241103T020000
TZOFFSETFROM:-0400
TZOFFSETTO:-0500
RDATE:20251102T020000
RDATE:20261101T020000
END:STANDARD
BEGIN:DAYLIGHT
TZNAME:EDT
DTSTART:20250309T020000
TZOFFSETFROM:-0500
TZOFFSETTO:-0400
RDATE:20260308T020000
END:DAYLIGHT
END:VTIMEZONE
BEGIN:VEVENT
UID:be864a8c-f947-455c-9c2c-fcb2f453c80b
DTSTAMP:20260420T095020Z
DESCRIPTION:Southeastern Oratorio Society's Fourth of July Concert will be 
 at 6 p.m. June 29 in the Boys & Girls Homes Chapel. Admission is free but 
 donations are accepted.
DTSTART;TZID=America/New_York:20250629T180000
DTEND;TZID=America/New_York:20250629T200000
LOCATION:400 Flemington Drive\, Lake Waccamaw\, NC 28450 US
SUMMARY:Southeastern Oratorio Society Fourth of July Concert
END:VEVENT
END:VCALENDAR
