BEGIN:VCALENDAR
VERSION:2.0
PRODID:-//boysandgirlshomes.org//NONSGML kigkonsult.se iCalcreator 2.30.10/
 /
CALSCALE:GREGORIAN
METHOD:PUBLISH
UID:aa3e0e01-55ae-416b-955c-3d4bfdc1c71e
X-WR-CALDESC:Da Bomb Barrel Races
X-WR-RELCALID:5d8160afa11248cff97a685e3dd55830
X-WR-TIMEZONE:America/New_York
BEGIN:VTIMEZONE
TZID:America/New_York
BEGIN:STANDARD
TZNAME:EST
DTSTART:20241103T020000
TZOFFSETFROM:-0400
TZOFFSETTO:-0500
RDATE:20251102T020000
RDATE:20261101T020000
END:STANDARD
BEGIN:DAYLIGHT
TZNAME:EDT
DTSTART:20250309T020000
TZOFFSETFROM:-0500
TZOFFSETTO:-0400
RDATE:20260308T020000
END:DAYLIGHT
END:VTIMEZONE
BEGIN:VEVENT
UID:b8aeb434-5520-480b-969f-c1beb3238648
DTSTAMP:20260420T080643Z
DESCRIPTION:Da Bomb Barrel Races
DTSTART;TZID=America/New_York:20250711T060000
DTEND;TZID=America/New_York:20250713T060001
LOCATION:Bill Thompson Lane\, Lake Waccamaw\, NC 28450 US
SUMMARY:Da Bomb Barrel Race
END:VEVENT
END:VCALENDAR
