BEGIN:VCALENDAR
VERSION:2.0
PRODID:-//boysandgirlshomes.org//NONSGML kigkonsult.se iCalcreator 2.30.10/
 /
CALSCALE:GREGORIAN
METHOD:PUBLISH
UID:57750f90-2038-44e9-b8d6-dbb1fc42937c
X-WR-CALDESC:The monthly meeting of the Lake Waccamaw Lions Club
X-WR-RELCALID:6e195c3b262fd097ac653cd4f35ec811
X-WR-TIMEZONE:America/New_York
BEGIN:VTIMEZONE
TZID:America/New_York
BEGIN:STANDARD
TZNAME:EST
DTSTART:20241103T020000
TZOFFSETFROM:-0400
TZOFFSETTO:-0500
RDATE:20251102T020000
RDATE:20261101T020000
END:STANDARD
BEGIN:DAYLIGHT
TZNAME:EDT
DTSTART:20250309T020000
TZOFFSETFROM:-0500
TZOFFSETTO:-0400
RDATE:20260308T020000
END:DAYLIGHT
END:VTIMEZONE
BEGIN:VEVENT
UID:d7b41694-e285-4bec-b0c5-5c4043d8a6ad
DTSTAMP:20260420T080536Z
DESCRIPTION:The monthly meeting of the Lake Waccamaw Lions Club
DTSTART;TZID=America/New_York:20250717T180000
DTEND;TZID=America/New_York:20250717T190000
LOCATION:Morton Conference Center
SUMMARY:Lake Waccamaw Lions Club Meeting
END:VEVENT
END:VCALENDAR
