BEGIN:VCALENDAR
VERSION:2.0
PRODID:-//boysandgirlshomes.org//NONSGML kigkonsult.se iCalcreator 2.30.10/
 /
CALSCALE:GREGORIAN
METHOD:PUBLISH
UID:10dbdaa0-a4f3-4059-8c08-842c30cfd8e4
X-WR-CALDESC:RC Motors car races
X-WR-RELCALID:8e7fde5b35923005e2d4ec2ea17533b9
X-WR-TIMEZONE:America/New_York
BEGIN:VTIMEZONE
TZID:America/New_York
BEGIN:STANDARD
TZNAME:EST
DTSTART:20241103T020000
TZOFFSETFROM:-0400
TZOFFSETTO:-0500
RDATE:20251102T020000
RDATE:20261101T020000
END:STANDARD
BEGIN:DAYLIGHT
TZNAME:EDT
DTSTART:20250309T020000
TZOFFSETFROM:-0500
TZOFFSETTO:-0400
RDATE:20260308T020000
END:DAYLIGHT
END:VTIMEZONE
BEGIN:VEVENT
UID:752151c8-d981-47b7-a459-f6188c809b1a
DTSTAMP:20260420T080603Z
DESCRIPTION:RC Motors car races
DTSTART;TZID=America/New_York:20250718T060000
DTEND;TZID=America/New_York:20250720T060001
LOCATION:Bill Thompson Lane\, Lake Waccamaw\, NC 28450 US
SUMMARY:RC Motors Races
END:VEVENT
END:VCALENDAR
