BEGIN:VCALENDAR
VERSION:2.0
PRODID:-//boysandgirlshomes.org//NONSGML kigkonsult.se iCalcreator 2.30.10/
 /
CALSCALE:GREGORIAN
METHOD:PUBLISH
UID:3281b08b-71e7-4105-b07b-55636fa128fc
X-WR-CALDESC:Members of the NC Extension & Community Association chapters a
 cross North Carolina will gather at Boys & Girls Homes campus to take tour
 s and learn more about the organization they've supported for many years. 
 BGHNC will be cooking a lunch for the group as well.
X-WR-RELCALID:ee99e0e2dd6f9418ac892aef85dd528c
X-WR-TIMEZONE:America/New_York
BEGIN:VTIMEZONE
TZID:America/New_York
BEGIN:STANDARD
TZNAME:EST
DTSTART:20241103T020000
TZOFFSETFROM:-0400
TZOFFSETTO:-0500
RDATE:20251102T020000
RDATE:20261101T020000
END:STANDARD
BEGIN:DAYLIGHT
TZNAME:EDT
DTSTART:20250309T020000
TZOFFSETFROM:-0500
TZOFFSETTO:-0400
RDATE:20260308T020000
END:DAYLIGHT
END:VTIMEZONE
BEGIN:VEVENT
UID:e3105efd-63fe-4bba-b37f-b6fde11e86f2
DTSTAMP:20260420T064931Z
DESCRIPTION:Members of the NC Extension & Community Association chapters ac
 ross North Carolina will gather at Boys & Girls Homes campus to take tours
  and learn more about the organization they've supported for many years. B
 GHNC will be cooking a lunch for the group as well.
DTSTART;TZID=America/New_York:20250816T090000
DTEND;TZID=America/New_York:20250816T130000
LOCATION:400 Flemington Drive\, Lake Waccamaw\, NC 28450 US
SUMMARY:ECA Day
END:VEVENT
END:VCALENDAR
