BEGIN:VCALENDAR
VERSION:2.0
PRODID:-//boysandgirlshomes.org//NONSGML kigkonsult.se iCalcreator 2.30.10/
 /
CALSCALE:GREGORIAN
METHOD:PUBLISH
UID:92887a75-602e-4ca0-a652-713ebce76cf7
X-WR-CALDESC:The monthly meeting of the Lake Waccamaw Lions Club
X-WR-RELCALID:386710a3252cc1a34505389b49192948
X-WR-TIMEZONE:America/New_York
BEGIN:VTIMEZONE
TZID:America/New_York
BEGIN:STANDARD
TZNAME:EST
DTSTART:20241103T020000
TZOFFSETFROM:-0400
TZOFFSETTO:-0500
RDATE:20251102T020000
RDATE:20261101T020000
END:STANDARD
BEGIN:DAYLIGHT
TZNAME:EDT
DTSTART:20250309T020000
TZOFFSETFROM:-0500
TZOFFSETTO:-0400
RDATE:20260308T020000
END:DAYLIGHT
END:VTIMEZONE
BEGIN:VEVENT
UID:dfd5a82f-d0fe-42ba-b117-d8a79e552aae
DTSTAMP:20260420T064110Z
DESCRIPTION:The monthly meeting of the Lake Waccamaw Lions Club
DTSTART;TZID=America/New_York:20250821T180000
DTEND;TZID=America/New_York:20250821T190000
LOCATION:Morton Conference Center
SUMMARY:Lake Waccamaw Lions Club Meeting
END:VEVENT
END:VCALENDAR
