BEGIN:VCALENDAR
VERSION:2.0
PRODID:-//boysandgirlshomes.org//NONSGML kigkonsult.se iCalcreator 2.30.10/
 /
CALSCALE:GREGORIAN
METHOD:PUBLISH
UID:bd533a33-ff24-4ff8-84ca-31e40928670f
X-WR-CALDESC:2nd FireQuacker Duck Race West to benefit Boys & Girls Homes a
 nd purchasing vans for our residential program
X-WR-RELCALID:c5d1d9fb4d49036fadab240c9fd660a7
X-WR-TIMEZONE:America/New_York
BEGIN:VTIMEZONE
TZID:America/New_York
BEGIN:STANDARD
TZNAME:EST
DTSTART:20241103T020000
TZOFFSETFROM:-0400
TZOFFSETTO:-0500
RDATE:20251102T020000
RDATE:20261101T020000
END:STANDARD
BEGIN:DAYLIGHT
TZNAME:EDT
DTSTART:20250309T020000
TZOFFSETFROM:-0500
TZOFFSETTO:-0400
RDATE:20260308T020000
END:DAYLIGHT
END:VTIMEZONE
BEGIN:VEVENT
UID:f5ba7fe1-83fa-4421-b07f-90ca11f1b89a
DTSTAMP:20260420T062628Z
DESCRIPTION:2nd FireQuacker Duck Race West to benefit Boys & Girls Homes an
 d purchasing vans for our residential program
DTSTART;TZID=America/New_York:20250821T110000
DTEND;TZID=America/New_York:20250821T133000
LOCATION:Winston Waterworks\, 3584 Winston Lake Rd\, Winston-Salem\, NC 271
 05 US
SUMMARY:FireQuacker Duck Race West
END:VEVENT
END:VCALENDAR
