BEGIN:VCALENDAR
VERSION:2.0
PRODID:-//boysandgirlshomes.org//NONSGML kigkonsult.se iCalcreator 2.30.10/
 /
CALSCALE:GREGORIAN
METHOD:PUBLISH
UID:06431f9b-a47c-4ba7-8bba-e70561af4852
X-WR-CALDESC:FireQuacker Duck Race East to raise money to buy vans for BGHN
 C's residential program
X-WR-RELCALID:f8b4be739a717901cb446d15db0fca69
X-WR-TIMEZONE:America/New_York
BEGIN:VTIMEZONE
TZID:America/New_York
BEGIN:STANDARD
TZNAME:EST
DTSTART:20241103T020000
TZOFFSETFROM:-0400
TZOFFSETTO:-0500
RDATE:20251102T020000
RDATE:20261101T020000
END:STANDARD
BEGIN:DAYLIGHT
TZNAME:EDT
DTSTART:20250309T020000
TZOFFSETFROM:-0500
TZOFFSETTO:-0400
RDATE:20260308T020000
END:DAYLIGHT
END:VTIMEZONE
BEGIN:VEVENT
UID:2478ffa6-b307-4e26-93fb-edcf992e996a
DTSTAMP:20260420T050100Z
DESCRIPTION:FireQuacker Duck Race East to raise money to buy vans for BGHNC
 's residential program
DTSTART;TZID=America/New_York:20250905T160000
DTEND;TZID=America/New_York:20250905T173000
LOCATION:Jungle Rapids\, 5320 Oleander Dr\, Wilmington\, NC 28403 US
SUMMARY:FireQuacker Duck Race East to benefit BGHNC
END:VEVENT
END:VCALENDAR
