BEGIN:VCALENDAR
VERSION:2.0
PRODID:-//boysandgirlshomes.org//NONSGML kigkonsult.se iCalcreator 2.30.10/
 /
CALSCALE:GREGORIAN
METHOD:PUBLISH
UID:dcffb3ae-41ef-40b4-8be1-91eeeaa62f44
X-WR-CALDESC:Members of the Greater Federation of Women's Clubs of North Ca
 rolina will gather at BGHNC Lake Waccamaw campus to explore\, tour and lea
 rn more about the organization that GFWC clubs have supported for many yea
 rs.
X-WR-RELCALID:6995fab382d4c6fa150d56965ff5cfda
X-WR-TIMEZONE:America/New_York
BEGIN:VTIMEZONE
TZID:America/New_York
BEGIN:STANDARD
TZNAME:EST
DTSTART:20241103T020000
TZOFFSETFROM:-0400
TZOFFSETTO:-0500
RDATE:20251102T020000
RDATE:20261101T020000
END:STANDARD
BEGIN:DAYLIGHT
TZNAME:EDT
DTSTART:20250309T020000
TZOFFSETFROM:-0500
TZOFFSETTO:-0400
RDATE:20260308T020000
RDATE:20270314T020000
END:DAYLIGHT
END:VTIMEZONE
BEGIN:VEVENT
UID:38d3f101-5f44-42b2-8ca0-b0fa5644870b
DTSTAMP:20260420T050114Z
DESCRIPTION:Members of the Greater Federation of Women's Clubs of North Car
 olina will gather at BGHNC Lake Waccamaw campus to explore\, tour and lear
 n more about the organization that GFWC clubs have supported for many year
 s.
DTSTART;TZID=America/New_York:20250913T090000
DTEND;TZID=America/New_York:20250913T130000
LOCATION:400 Flemington Drive\, Lake Waccamaw\, NC 28450 US
SUMMARY:GFWC Day
END:VEVENT
END:VCALENDAR
