BEGIN:VCALENDAR
VERSION:2.0
PRODID:-//boysandgirlshomes.org//NONSGML kigkonsult.se iCalcreator 2.30.10/
 /
CALSCALE:GREGORIAN
METHOD:PUBLISH
UID:7695cb42-3cb1-4277-acd1-d5e42208657c
X-WR-CALDESC:Riders with local Christian Motorcyclists Association chapters
  ride from Wilmington to Lake Waccamaw to raise money for Boys & Girls Hom
 es. BGHNC cooks a great picnic lunch for all the riders when they get here
 .
X-WR-RELCALID:ac58b6dd8b0b754d919994a35d9b2358
X-WR-TIMEZONE:America/New_York
BEGIN:VTIMEZONE
TZID:America/New_York
BEGIN:STANDARD
TZNAME:EST
DTSTART:20241103T020000
TZOFFSETFROM:-0400
TZOFFSETTO:-0500
RDATE:20251102T020000
RDATE:20261101T020000
END:STANDARD
BEGIN:DAYLIGHT
TZNAME:EDT
DTSTART:20250309T020000
TZOFFSETFROM:-0500
TZOFFSETTO:-0400
RDATE:20260308T020000
RDATE:20270314T020000
END:DAYLIGHT
END:VTIMEZONE
BEGIN:VEVENT
UID:19ace3b3-7609-48be-9995-bbeea1c21ded
DTSTAMP:20260420T050545Z
DESCRIPTION:Riders with local Christian Motorcyclists Association chapters 
 ride from Wilmington to Lake Waccamaw to raise money for Boys & Girls Home
 s. BGHNC cooks a great picnic lunch for all the riders when they get here.
DTSTART;TZID=America/New_York:20250920T110000
DTEND;TZID=America/New_York:20250920T140000
LOCATION:400 Flemington Drive\, Lake Waccamaw\, NC 28450 US
SUMMARY:CMA Benefit Ride
END:VEVENT
END:VCALENDAR
