BEGIN:VCALENDAR
VERSION:2.0
PRODID:-//boysandgirlshomes.org//NONSGML kigkonsult.se iCalcreator 2.30.10/
 /
CALSCALE:GREGORIAN
METHOD:PUBLISH
UID:80807f2c-0d58-4803-873f-02485a1d19d6
X-WR-CALDESC:Wild Bill Game Show Series
X-WR-RELCALID:69b19d12deecba1feba220688e2503f0
X-WR-TIMEZONE:America/New_York
BEGIN:VTIMEZONE
TZID:America/New_York
BEGIN:STANDARD
TZNAME:EST
DTSTART:20241103T020000
TZOFFSETFROM:-0400
TZOFFSETTO:-0500
RDATE:20251102T020000
RDATE:20261101T020000
END:STANDARD
BEGIN:DAYLIGHT
TZNAME:EDT
DTSTART:20250309T020000
TZOFFSETFROM:-0500
TZOFFSETTO:-0400
RDATE:20260308T020000
RDATE:20270314T020000
END:DAYLIGHT
END:VTIMEZONE
BEGIN:VEVENT
UID:bd0a1470-63f9-41b8-b5b8-bd6f418e716a
DTSTAMP:20260420T045303Z
DESCRIPTION:Wild Bill Game Show Series
DTSTART;TZID=America/New_York:20250927T060000
DTEND;TZID=America/New_York:20250927T060001
LOCATION:Bill Thompson Lane\, Lake Waccamaw\, NC 28450 US
SUMMARY:Southeastern NC Game Show Series
END:VEVENT
END:VCALENDAR
