BEGIN:VCALENDAR
VERSION:2.0
PRODID:-//boysandgirlshomes.org//NONSGML kigkonsult.se iCalcreator 2.30.10/
 /
CALSCALE:GREGORIAN
METHOD:PUBLISH
UID:5350544b-4370-412a-8f6a-36ded2d01e1f
X-WR-CALDESC:Kiwanis Day is a gathering of Kiwanis and Key Club members fro
 m across NC to Boys & Girls Homes campus to complete service projects\, to
 ur campus and learn more about the nonprofit they've supported for the las
 t 70 years.
X-WR-RELCALID:ba31faa07bc00a1642685a4f1f778c25
X-WR-TIMEZONE:America/New_York
BEGIN:VTIMEZONE
TZID:America/New_York
BEGIN:STANDARD
TZNAME:EST
DTSTART:20241103T020000
TZOFFSETFROM:-0400
TZOFFSETTO:-0500
RDATE:20251102T020000
RDATE:20261101T020000
END:STANDARD
BEGIN:DAYLIGHT
TZNAME:EDT
DTSTART:20250309T020000
TZOFFSETFROM:-0500
TZOFFSETTO:-0400
RDATE:20260308T020000
RDATE:20270314T020000
END:DAYLIGHT
END:VTIMEZONE
BEGIN:VEVENT
UID:4b39c834-a4c5-45aa-85e9-2f3134c625d8
DTSTAMP:20260420T031934Z
DESCRIPTION:Kiwanis Day is a gathering of Kiwanis and Key Club members from
  across NC to Boys & Girls Homes campus to complete service projects\, tou
 r campus and learn more about the nonprofit they've supported for the last
  70 years.
DTSTART;TZID=America/New_York:20251004T090000
DTEND;TZID=America/New_York:20251004T130000
LOCATION:400 Flemington Drive\, Lake Waccamaw\, NC 28450 US
SUMMARY:Kiwanis Day
END:VEVENT
END:VCALENDAR
