BEGIN:VCALENDAR
VERSION:2.0
PRODID:-//boysandgirlshomes.org//NONSGML kigkonsult.se iCalcreator 2.30.10/
 /
CALSCALE:GREGORIAN
METHOD:PUBLISH
UID:eced01a3-a12e-4715-b0a2-4b6819fa2337
X-WR-CALDESC:Wild Bill Game Show series
X-WR-RELCALID:0b841f593456d5898e4e31159c82503a
X-WR-TIMEZONE:America/New_York
BEGIN:VTIMEZONE
TZID:America/New_York
BEGIN:STANDARD
TZNAME:EST
DTSTART:20241103T020000
TZOFFSETFROM:-0400
TZOFFSETTO:-0500
RDATE:20251102T020000
RDATE:20261101T020000
END:STANDARD
BEGIN:DAYLIGHT
TZNAME:EDT
DTSTART:20250309T020000
TZOFFSETFROM:-0500
TZOFFSETTO:-0400
RDATE:20260308T020000
RDATE:20270314T020000
END:DAYLIGHT
END:VTIMEZONE
BEGIN:VEVENT
UID:f0db4d31-02eb-47d5-96a4-54d93f7fbeeb
DTSTAMP:20260420T032806Z
DESCRIPTION:Wild Bill Game Show series
DTSTART;TZID=America/New_York:20251011T060000
DTEND;TZID=America/New_York:20251011T060001
LOCATION:Bill Thompson Lane\, Lake Waccamaw\, NC 28450 US
SUMMARY:Southeastern NC Game Show Series
END:VEVENT
END:VCALENDAR
