BEGIN:VCALENDAR
VERSION:2.0
PRODID:-//boysandgirlshomes.org//NONSGML kigkonsult.se iCalcreator 2.30.10/
 /
CALSCALE:GREGORIAN
METHOD:PUBLISH
UID:7f0ebd13-a2c8-4d8b-b346-5b998d894123
X-WR-CALDESC:TL Rodeo hosts the annual Boys & Girls Homes Rodeo benefiting 
 the programs of care at BGHNC
X-WR-RELCALID:5df86aa8f6b84067e676c4cdf3c770ac
X-WR-TIMEZONE:America/New_York
BEGIN:VTIMEZONE
TZID:America/New_York
BEGIN:STANDARD
TZNAME:EST
DTSTART:20241103T020000
TZOFFSETFROM:-0400
TZOFFSETTO:-0500
RDATE:20251102T020000
RDATE:20261101T020000
END:STANDARD
BEGIN:DAYLIGHT
TZNAME:EDT
DTSTART:20250309T020000
TZOFFSETFROM:-0500
TZOFFSETTO:-0400
RDATE:20260308T020000
RDATE:20270314T020000
END:DAYLIGHT
END:VTIMEZONE
BEGIN:VEVENT
UID:2c670483-0dfe-4234-95cd-e1276902d2ea
DTSTAMP:20260420T032648Z
DESCRIPTION:TL Rodeo hosts the annual Boys & Girls Homes Rodeo benefiting t
 he programs of care at BGHNC
DTSTART;TZID=America/New_York:20251017T060000
DTEND;TZID=America/New_York:20251018T060001
LOCATION:Bill Thompson Lane\, Lake Waccamaw\, NC 28450 US
SUMMARY:Boys & Girls Homes Annual Rodeo -- TL Rodeo Company
END:VEVENT
END:VCALENDAR
