BEGIN:VCALENDAR
VERSION:2.0
PRODID:-//boysandgirlshomes.org//NONSGML kigkonsult.se iCalcreator 2.30.10/
 /
CALSCALE:GREGORIAN
METHOD:PUBLISH
UID:2bfdbb76-1160-4816-9307-ea55976fee52
X-WR-CALDESC:Join us at Classy Cars & Country Cooking -- a classy car show 
 and food truck rodeo on the BGHNC Farm campus all to benefit the programs 
 of care at Boys & Girls Homes of NC.
X-WR-RELCALID:070233d2f041f7dedd30fac4abcca5d0
X-WR-TIMEZONE:America/New_York
BEGIN:VTIMEZONE
TZID:America/New_York
BEGIN:STANDARD
TZNAME:EST
DTSTART:20241103T020000
TZOFFSETFROM:-0400
TZOFFSETTO:-0500
RDATE:20251102T020000
RDATE:20261101T020000
END:STANDARD
BEGIN:DAYLIGHT
TZNAME:EDT
DTSTART:20250309T020000
TZOFFSETFROM:-0500
TZOFFSETTO:-0400
RDATE:20260308T020000
RDATE:20270314T020000
END:DAYLIGHT
END:VTIMEZONE
BEGIN:VEVENT
UID:de456b45-0dba-4304-bbd2-3657392ae3f6
DTSTAMP:20260420T032140Z
DESCRIPTION:Join us at Classy Cars & Country Cooking -- a classy car show a
 nd food truck rodeo on the BGHNC Farm campus all to benefit the programs o
 f care at Boys & Girls Homes of NC.
DTSTART;TZID=America/New_York:20251025T100000
DTEND;TZID=America/New_York:20251025T140000
LOCATION:Bill Thompson Lane\, Lake Waccamaw\, NC 28450 US
SUMMARY:Classy Cars & Country Cooking
END:VEVENT
END:VCALENDAR
