BEGIN:VCALENDAR
VERSION:2.0
PRODID:-//boysandgirlshomes.org//NONSGML kigkonsult.se iCalcreator 2.30.10/
 /
CALSCALE:GREGORIAN
METHOD:PUBLISH
UID:872c1c3d-c1ac-407c-aef8-8ee76845150f
X-WR-CALDESC:Civitan Day is a gathering of Civitan members from across NC t
 o Boys & Girls Homes campus to complete service projects\, tour campus and
  learn more about the nonprofit they've supported for the last 70 years.
X-WR-RELCALID:ffc1242d276115ed9e007dc5ec336d35
X-WR-TIMEZONE:America/New_York
BEGIN:VTIMEZONE
TZID:America/New_York
BEGIN:STANDARD
TZNAME:EST
DTSTART:20251102T020000
TZOFFSETFROM:-0400
TZOFFSETTO:-0500
RDATE:20261101T020000
END:STANDARD
BEGIN:DAYLIGHT
TZNAME:EDT
DTSTART:20250309T020000
TZOFFSETFROM:-0500
TZOFFSETTO:-0400
RDATE:20260308T020000
RDATE:20270314T020000
END:DAYLIGHT
END:VTIMEZONE
BEGIN:VEVENT
UID:fbe678ca-815c-4f90-bc85-1e8aa2f60af5
DTSTAMP:20260420T015133Z
DESCRIPTION:Civitan Day is a gathering of Civitan members from across NC to
  Boys & Girls Homes campus to complete service projects\, tour campus and 
 learn more about the nonprofit they've supported for the last 70 years.
DTSTART;TZID=America/New_York:20251108T090000
DTEND;TZID=America/New_York:20251108T130000
LOCATION:400 Flemington Drive\, Lake Waccamaw\, NC 28450 US
SUMMARY:Civitan Day
END:VEVENT
END:VCALENDAR
