BEGIN:VCALENDAR
VERSION:2.0
PRODID:-//boysandgirlshomes.org//NONSGML kigkonsult.se iCalcreator 2.30.10/
 /
CALSCALE:GREGORIAN
METHOD:PUBLISH
UID:1b1fd316-38cd-4540-9f9a-eb69e472f1dc
X-WR-CALDESC:Celebration Of Horse-Human Relationship Equine Expo. by I AM H
 ERD
X-WR-RELCALID:d8c954153b750a7b311ef1f4d5c75feb
X-WR-TIMEZONE:America/New_York
BEGIN:VTIMEZONE
TZID:America/New_York
BEGIN:STANDARD
TZNAME:EST
DTSTART:20251102T020000
TZOFFSETFROM:-0400
TZOFFSETTO:-0500
RDATE:20261101T020000
END:STANDARD
BEGIN:DAYLIGHT
TZNAME:EDT
DTSTART:20250309T020000
TZOFFSETFROM:-0500
TZOFFSETTO:-0400
RDATE:20260308T020000
RDATE:20270314T020000
END:DAYLIGHT
END:VTIMEZONE
BEGIN:VEVENT
UID:b3a16c09-8425-4c0e-8a33-3208b87dac82
DTSTAMP:20260420T020306Z
DESCRIPTION:Celebration Of Horse-Human Relationship Equine Expo. by I AM HE
 RD
DTSTART;TZID=America/New_York:20251115T060000
DTEND;TZID=America/New_York:20251116T060001
LOCATION:Bill Thompson Lane\, Lake Waccamaw\, NC 28450 US
SUMMARY:Celebration Of Horse-Human Relationship Equine Expo. by I AM HERD
END:VEVENT
END:VCALENDAR
