BEGIN:VCALENDAR
VERSION:2.0
PRODID:-//boysandgirlshomes.org//NONSGML kigkonsult.se iCalcreator 2.30.10/
 /
CALSCALE:GREGORIAN
METHOD:PUBLISH
UID:2ff6d493-6dab-468f-b07d-19558dd27098
X-WR-CALDESC:Wild Bill Game Show Series
X-WR-RELCALID:ce6e8cb40a169a57cfcae80cf63e1688
X-WR-TIMEZONE:America/New_York
BEGIN:VTIMEZONE
TZID:America/New_York
BEGIN:STANDARD
TZNAME:EST
DTSTART:20251102T020000
TZOFFSETFROM:-0400
TZOFFSETTO:-0500
RDATE:20261101T020000
END:STANDARD
BEGIN:DAYLIGHT
TZNAME:EDT
DTSTART:20250309T020000
TZOFFSETFROM:-0500
TZOFFSETTO:-0400
RDATE:20260308T020000
RDATE:20270314T020000
END:DAYLIGHT
END:VTIMEZONE
BEGIN:VEVENT
UID:25ed2814-5c20-488e-9545-f92320036bce
DTSTAMP:20260420T015839Z
DESCRIPTION:Wild Bill Game Show Series
DTSTART;TZID=America/New_York:20251122T060000
DTEND;TZID=America/New_York:20251122T060001
LOCATION:Bill Thompson Lane\, Lake Waccamaw\, NC 28450 US
SUMMARY:Southeastern NC Game Show Series
END:VEVENT
END:VCALENDAR
