BEGIN:VCALENDAR
VERSION:2.0
PRODID:-//boysandgirlshomes.org//NONSGML kigkonsult.se iCalcreator 2.30.10/
 /
CALSCALE:GREGORIAN
METHOD:PUBLISH
UID:c238afd0-f53d-44d2-83ee-bf11bb005992
X-WR-CALDESC:RC Motors miniature car racing show
X-WR-RELCALID:0be185b42ba20365412fda98585b2d51
X-WR-TIMEZONE:America/New_York
BEGIN:VTIMEZONE
TZID:America/New_York
BEGIN:STANDARD
TZNAME:EST
DTSTART:20251102T020000
TZOFFSETFROM:-0400
TZOFFSETTO:-0500
RDATE:20261101T020000
END:STANDARD
BEGIN:DAYLIGHT
TZNAME:EDT
DTSTART:20250309T020000
TZOFFSETFROM:-0500
TZOFFSETTO:-0400
RDATE:20260308T020000
RDATE:20270314T020000
END:DAYLIGHT
END:VTIMEZONE
BEGIN:VEVENT
UID:051fd080-69f6-41f9-8169-f3569ced4fcf
DTSTAMP:20260420T003857Z
DESCRIPTION:RC Motors miniature car racing show
DTSTART;TZID=America/New_York:20251205T060000
DTEND;TZID=America/New_York:20251207T060001
LOCATION:Bill Thompson Lane\, Lake Waccamaw\, AL 28450 US
SUMMARY:RC Motors Races
END:VEVENT
END:VCALENDAR
