BEGIN:VCALENDAR
VERSION:2.0
PRODID:-//boysandgirlshomes.org//NONSGML kigkonsult.se iCalcreator 2.30.10/
 /
CALSCALE:GREGORIAN
METHOD:PUBLISH
UID:f1bdd144-4372-423a-a1a3-5459f9be4af3
X-WR-CALDESC:
X-WR-RELCALID:7e1f8dc91faf364ca9fa72b8e6f90dda
X-WR-TIMEZONE:America/New_York
BEGIN:VTIMEZONE
TZID:America/New_York
BEGIN:STANDARD
TZNAME:EST
DTSTART:20251102T020000
TZOFFSETFROM:-0400
TZOFFSETTO:-0500
RDATE:20261101T020000
END:STANDARD
BEGIN:DAYLIGHT
TZNAME:EDT
DTSTART:20260308T020000
TZOFFSETFROM:-0500
TZOFFSETTO:-0400
RDATE:20270314T020000
END:DAYLIGHT
END:VTIMEZONE
BEGIN:VEVENT
UID:9dcaee27-9b3d-4362-9029-caefdb7d5480
DTSTAMP:20260419T204203Z
DESCRIPTION:
DTSTART;TZID=America/New_York:20260320T060000
DTEND;TZID=America/New_York:20260322T060001
LOCATION:Boys and Girls Homes Farm & Arena\, 400 Flemington Drive\, Lake Wa
 ccamaw\, NC 28450 US
SUMMARY:Southern Farm Days
END:VEVENT
END:VCALENDAR
