BEGIN:VCALENDAR
VERSION:2.0
PRODID:-//boysandgirlshomes.org//NONSGML kigkonsult.se iCalcreator 2.30.10/
 /
CALSCALE:GREGORIAN
METHOD:PUBLISH
UID:6ed49b06-8a2f-46cc-9f09-29a499468ae7
X-WR-CALDESC:Spring Civic Club Day for Lions\, Jaycee\, Rotary and Kiwanis
X-WR-RELCALID:9db4de62048ab6dbfbcb1fabf6e9e7dc
X-WR-TIMEZONE:America/New_York
BEGIN:VTIMEZONE
TZID:America/New_York
BEGIN:STANDARD
TZNAME:EST
DTSTART:20251102T020000
TZOFFSETFROM:-0400
TZOFFSETTO:-0500
RDATE:20261101T020000
END:STANDARD
BEGIN:DAYLIGHT
TZNAME:EDT
DTSTART:20260308T020000
TZOFFSETFROM:-0500
TZOFFSETTO:-0400
RDATE:20270314T020000
END:DAYLIGHT
END:VTIMEZONE
BEGIN:VEVENT
UID:0df33565-1643-47ce-9265-7d3ca1047367
DTSTAMP:20260419T200355Z
DESCRIPTION:Spring Civic Club Day for Lions\, Jaycee\, Rotary and Kiwanis
DTSTART;TZID=America/New_York:20260328T100000
DTEND;TZID=America/New_York:20260328T140000
LOCATION:400 Flemington Drive\, Lake Waccamaw\, AL 28450 US
SUMMARY:Spring Civic Club Day
END:VEVENT
END:VCALENDAR
