BEGIN:VCALENDAR
VERSION:2.0
PRODID:-//boysandgirlshomes.org//NONSGML kigkonsult.se iCalcreator 2.30.10/
 /
CALSCALE:GREGORIAN
METHOD:PUBLISH
UID:32d66081-5be0-4f4b-9ebe-7f04013c15c4
X-WR-CALDESC:
X-WR-RELCALID:7f6918ded9dfced2c027c10a46b564a8
X-WR-TIMEZONE:America/New_York
BEGIN:VTIMEZONE
TZID:America/New_York
BEGIN:STANDARD
TZNAME:EST
DTSTART:20251102T020000
TZOFFSETFROM:-0400
TZOFFSETTO:-0500
RDATE:20261101T020000
END:STANDARD
BEGIN:DAYLIGHT
TZNAME:EDT
DTSTART:20260308T020000
TZOFFSETFROM:-0500
TZOFFSETTO:-0400
RDATE:20270314T020000
END:DAYLIGHT
END:VTIMEZONE
BEGIN:VEVENT
UID:a5e5a6d9-67d7-4890-965d-6af70d1eefea
DTSTAMP:20260419T184124Z
DESCRIPTION:
DTSTART;TZID=America/New_York:20260411T060000
DTEND;TZID=America/New_York:20260412T060001
LOCATION:BGHNC Farm and Exhibition Center\, Lake Waccamaw\, NC 28450 US
SUMMARY:FARM EVENT -- Carolina Paint Horse Club
END:VEVENT
END:VCALENDAR
