BEGIN:VCALENDAR
VERSION:2.0
PRODID:-//boysandgirlshomes.org//NONSGML kigkonsult.se iCalcreator 2.30.10/
 /
CALSCALE:GREGORIAN
METHOD:PUBLISH
UID:a12385de-3a2f-4d58-ad7c-03301c9a6497
X-WR-CALDESC:
X-WR-RELCALID:6064bab9c6d906afae5d60e12e28c493
X-WR-TIMEZONE:America/New_York
BEGIN:VTIMEZONE
TZID:America/New_York
BEGIN:STANDARD
TZNAME:EST
DTSTART:20251102T020000
TZOFFSETFROM:-0400
TZOFFSETTO:-0500
RDATE:20261101T020000
RDATE:20271107T020000
END:STANDARD
BEGIN:DAYLIGHT
TZNAME:EDT
DTSTART:20260308T020000
TZOFFSETFROM:-0500
TZOFFSETTO:-0400
RDATE:20270314T020000
END:DAYLIGHT
END:VTIMEZONE
BEGIN:VEVENT
UID:78b21601-8cba-4013-89a5-6e237e8d9c8d
DTSTAMP:20260419T200907Z
DESCRIPTION:
DTSTART;TZID=America/New_York:20260509T060000
DTEND;TZID=America/New_York:20260509T060001
LOCATION:BGHNC Farm and Exhibition Center\, Lake Waccamaw\, NC 28450 US
SUMMARY:FARM EVENT -- Southeastern NC Game Show
END:VEVENT
END:VCALENDAR
