BEGIN:VCALENDAR
VERSION:2.0
PRODID:-//boysandgirlshomes.org//NONSGML kigkonsult.se iCalcreator 2.30.10/
 /
CALSCALE:GREGORIAN
METHOD:PUBLISH
UID:e333e4c9-5876-45e3-94fb-880502b8432a
X-WR-CALDESC:
X-WR-RELCALID:dbcf222c70657a67b699e42b4dfb5ec8
X-WR-TIMEZONE:America/New_York
BEGIN:VTIMEZONE
TZID:America/New_York
BEGIN:STANDARD
TZNAME:EST
DTSTART:20251102T020000
TZOFFSETFROM:-0400
TZOFFSETTO:-0500
RDATE:20261101T020000
RDATE:20271107T020000
END:STANDARD
BEGIN:DAYLIGHT
TZNAME:EDT
DTSTART:20260308T020000
TZOFFSETFROM:-0500
TZOFFSETTO:-0400
RDATE:20270314T020000
END:DAYLIGHT
END:VTIMEZONE
BEGIN:VEVENT
UID:68c01260-64fd-4f98-9840-73ab40c305b1
DTSTAMP:20260419T201025Z
DESCRIPTION:
DTSTART;TZID=America/New_York:20260515T060000
DTEND;TZID=America/New_York:20260517T060001
LOCATION:BGHNC Farm and Exhibition Center\, Lake Waccamaw\, NC 28450 US
SUMMARY:FARM EVENT -- 4H District Show
END:VEVENT
END:VCALENDAR
