BEGIN:VCALENDAR
VERSION:2.0
PRODID:-//boysandgirlshomes.org//NONSGML kigkonsult.se iCalcreator 2.30.10/
 /
CALSCALE:GREGORIAN
METHOD:PUBLISH
UID:741d407c-3943-4121-8704-f705e3584fbf
X-WR-CALDESC:
X-WR-RELCALID:3dd668697a8721ea5f15e6399bf4e2ae
X-WR-TIMEZONE:America/New_York
BEGIN:VTIMEZONE
TZID:America/New_York
BEGIN:STANDARD
TZNAME:EST
DTSTART:20251102T020000
TZOFFSETFROM:-0400
TZOFFSETTO:-0500
RDATE:20261101T020000
RDATE:20271107T020000
END:STANDARD
BEGIN:DAYLIGHT
TZNAME:EDT
DTSTART:20260308T020000
TZOFFSETFROM:-0500
TZOFFSETTO:-0400
RDATE:20270314T020000
END:DAYLIGHT
END:VTIMEZONE
BEGIN:VEVENT
UID:69604d4f-03d0-4ba0-8e7b-c3991045edbc
DTSTAMP:20260419T201103Z
DESCRIPTION:
DTSTART;TZID=America/New_York:20260522T060000
DTEND;TZID=America/New_York:20260524T060001
LOCATION:BGHNC Farm and Exhibition Center\, Lake Waccamaw\, NC 28450 US
SUMMARY:FARM EVENT -- RC Motors
END:VEVENT
END:VCALENDAR
