BEGIN:VCALENDAR
VERSION:2.0
PRODID:-//boysandgirlshomes.org//NONSGML kigkonsult.se iCalcreator 2.30.10/
 /
CALSCALE:GREGORIAN
METHOD:PUBLISH
UID:6c6de598-abe4-4249-95f8-7352886b287e
X-WR-CALDESC:Columbus County Day of Hope will be a day in which Columbus Co
 unty social and medical services will be located on the campus of Thomas A
 cademy and Boys & Girls Homes and available to all Columbus County familie
 s\, free of charge including dental\, vision\, hearing\, sports physicals 
 as well as food trucks\, Touch-a-Truck and other fun family activities.
X-WR-RELCALID:663a90f3349aa464cc86ebb161a664e6
X-WR-TIMEZONE:America/New_York
BEGIN:VTIMEZONE
TZID:America/New_York
BEGIN:STANDARD
TZNAME:EST
DTSTART:20251102T020000
TZOFFSETFROM:-0400
TZOFFSETTO:-0500
RDATE:20261101T020000
RDATE:20271107T020000
END:STANDARD
BEGIN:DAYLIGHT
TZNAME:EDT
DTSTART:20260308T020000
TZOFFSETFROM:-0500
TZOFFSETTO:-0400
RDATE:20270314T020000
END:DAYLIGHT
END:VTIMEZONE
BEGIN:VEVENT
UID:3995f0c0-8a09-4e75-9ec6-b06654b59fab
DTSTAMP:20260419T214324Z
DESCRIPTION:Columbus County Day of Hope will be a day in which Columbus Cou
 nty social and medical services will be located on the campus of Thomas Ac
 ademy and Boys & Girls Homes and available to all Columbus County families
 \, free of charge including dental\, vision\, hearing\, sports physicals a
 s well as food trucks\, Touch-a-Truck and other fun family activities.
DTSTART;TZID=America/New_York:20260613T100000
DTEND;TZID=America/New_York:20260613T150000
LOCATION:Thomas Academy\, 206-B Rube McCray Circle\, Lake Waccamaw\, NC 284
 50 US
SUMMARY:Columbus County Day of Hope
END:VEVENT
END:VCALENDAR
